BEGIN:VCALENDAR
VERSION:2.0
PRODID:-//Sabre//Sabre VObject 4.5.8//EN
CALSCALE:GREGORIAN
BEGIN:VEVENT
UID:sabre-vobject-3f282118-33cb-4d39-9d4f-4649f019c93d
DTSTAMP:20260425T192231Z
SUMMARY:Heilige Messe für die Pfarrgemeinde
DESCRIPTION:https://www2.bistum-augsburg.de/gottesdienste/heilige-messe-fue
 r-die-pfarrgemeinde_id1725630
DTSTART;TZID=Europe/Berlin:20260510T101500
DURATION:PT30M
LOCATION:Zum Guten Hirten
END:VEVENT
END:VCALENDAR
