BEGIN:VCALENDAR
VERSION:2.0
PRODID:-//Sabre//Sabre VObject 4.5.8//EN
CALSCALE:GREGORIAN
BEGIN:VEVENT
UID:sabre-vobject-fa3df23d-0412-4229-aa54-981507d92c55
DTSTAMP:20260423T124941Z
SUMMARY:Senioren-Kaffee im Nikolaushaus
DESCRIPTION:https://www2.bistum-augsburg.de/gottesdienste/senioren-kaffee-i
 m-nikolaushaus_id1725645
DTSTART;TZID=Europe/Berlin:20260506T140000
DURATION:PT30M
LOCATION:St. Nikolaus\, Kirchenweg 4\, 87647 Unterthingau
END:VEVENT
END:VCALENDAR
