BEGIN:VCALENDAR
VERSION:2.0
PRODID:-//Sabre//Sabre VObject 4.5.8//EN
CALSCALE:GREGORIAN
BEGIN:VEVENT
UID:sabre-vobject-89e9b887-b06b-4887-92ce-b871ecc2ec8c
DTSTAMP:20260424T234000Z
SUMMARY:Maiandacht mit Inge Brenner
DESCRIPTION:https://www2.bistum-augsburg.de/gottesdienste/maiandacht-mit-in
 ge-brenner_id1725654
DTSTART;TZID=Europe/Berlin:20260513T180000
DURATION:PT30M
LOCATION:St. Martin
END:VEVENT
END:VCALENDAR
