BEGIN:VCALENDAR
VERSION:2.0
PRODID:-//Sabre//Sabre VObject 4.5.8//EN
CALSCALE:GREGORIAN
BEGIN:VEVENT
UID:sabre-vobject-267dcece-7151-46a1-b8fd-de23fddc5ec2
DTSTAMP:20260424T110225Z
SUMMARY:Maiandacht
DESCRIPTION:https://www2.bistum-augsburg.de/gottesdienste/maiandacht_id1725
 660
DTSTART;TZID=Europe/Berlin:20260514T191500
DURATION:PT30M
LOCATION:St. Stephan\, Kirchberg 4\, 87647 Oberthingau
END:VEVENT
END:VCALENDAR
