BEGIN:VCALENDAR
VERSION:2.0
PRODID:-//Sabre//Sabre VObject 4.5.8//EN
CALSCALE:GREGORIAN
BEGIN:VEVENT
UID:sabre-vobject-526c67fa-f5b2-4dea-9678-fc4381df1292
DTSTAMP:20260424T095149Z
SUMMARY:Spielenachmittag bei Julianne Boneberg ( Weissenwirt )
DESCRIPTION:https://www2.bistum-augsburg.de/gottesdienste/spielenachmittag-
 bei-julianne-boneberg-weissenwirt_id1725670
DTSTART;TZID=Europe/Berlin:20260518T133000
DURATION:PT30M
LOCATION:St. Nikolaus\, Kirchenweg 4\, 87647 Unterthingau
END:VEVENT
END:VCALENDAR
