BEGIN:VCALENDAR
VERSION:2.0
PRODID:-//Sabre//Sabre VObject 4.5.8//EN
CALSCALE:GREGORIAN
BEGIN:VEVENT
UID:sabre-vobject-da0f9fdd-6334-4c99-a40d-7028140822b8
DTSTAMP:20260424T161348Z
SUMMARY:Eucharistiefeier
DESCRIPTION:https://www2.bistum-augsburg.de/gottesdienste/eucharistiefeier_
 id1725685
DTSTART;TZID=Europe/Berlin:20260512T191500
DURATION:PT30M
LOCATION:St. Anna\, Kapellenstraße 1\, 87647 Reinhardsried
END:VEVENT
END:VCALENDAR
