BEGIN:VCALENDAR
VERSION:2.0
PRODID:-//Sabre//Sabre VObject 4.5.8//EN
CALSCALE:GREGORIAN
BEGIN:VEVENT
UID:sabre-vobject-1fc0cd99-d0a4-4cf1-b0fc-153901d6a04c
DTSTAMP:20260423T222830Z
SUMMARY:Weggottesdienst Firmlinge
DESCRIPTION:https://www2.bistum-augsburg.de/gottesdienste/weggottesdienst-f
 irmlinge_id1725687
DTSTART;TZID=Europe/Berlin:20260515T170000
DURATION:PT30M
LOCATION:St. Nikolaus\, Kirchenweg 4\, 87647 Unterthingau
END:VEVENT
END:VCALENDAR
