BEGIN:VCALENDAR
VERSION:2.0
PRODID:-//Sabre//Sabre VObject 4.5.8//EN
CALSCALE:GREGORIAN
BEGIN:VEVENT
UID:sabre-vobject-86abb2b1-4588-4fa9-96a9-5197add7679d
DTSTAMP:20260423T205039Z
SUMMARY:Erstkommunion
DESCRIPTION:https://www2.bistum-augsburg.de/gottesdienste/erstkommunion_id1
 725689
DTSTART;TZID=Europe/Berlin:20260517T100000
DURATION:PT30M
LOCATION:St. Nikolaus\, Kirchenweg 4\, 87647 Unterthingau
END:VEVENT
END:VCALENDAR
