BEGIN:VCALENDAR
VERSION:2.0
PRODID:-//Sabre//Sabre VObject 4.5.8//EN
CALSCALE:GREGORIAN
BEGIN:VEVENT
UID:sabre-vobject-973154f9-b061-40e8-8024-33e64bd7bfad
DTSTAMP:20260424T133850Z
SUMMARY:Maiandacht  (mit dem Biberbacher Dreigesang)
DESCRIPTION:https://www2.bistum-augsburg.de/gottesdienste/maiandacht-mit-de
 m-biberbacher-dreigesang_id1725693
DTSTART;TZID=Europe/Berlin:20260503T170000
DURATION:PT30M
LOCATION:St. Sebastian\, Pfarrer-Brümmer-Straße 16\, 86485 Affaltern
END:VEVENT
END:VCALENDAR
