BEGIN:VCALENDAR
VERSION:2.0
PRODID:-//Sabre//Sabre VObject 4.5.8//EN
CALSCALE:GREGORIAN
BEGIN:VEVENT
UID:sabre-vobject-bbc26a96-8334-417c-942c-098fb2e1946a
DTSTAMP:20260424T211315Z
SUMMARY:Eucharistiefeier
DESCRIPTION:https://www2.bistum-augsburg.de/gottesdienste/eucharistiefeier_
 id1725702
DTSTART;TZID=Europe/Berlin:20260506T191500
DURATION:PT30M
LOCATION:St. Martin
END:VEVENT
END:VCALENDAR
