BEGIN:VCALENDAR
VERSION:2.0
PRODID:-//Sabre//Sabre VObject 4.5.8//EN
CALSCALE:GREGORIAN
BEGIN:VEVENT
UID:sabre-vobject-701e2cc1-23b3-4acc-8418-f63053b86fc4
DTSTAMP:20260423T021315Z
SUMMARY:Beichtgelegenheit
DESCRIPTION:https://www2.bistum-augsburg.de/gottesdienste/beichtgelegenheit
 _id1725705
DTSTART;TZID=Europe/Berlin:20260425T184000
DURATION:PT30M
LOCATION:Hlgst. Dreifaltigkeit\, Sonthofener Str. 1\, 87477 Sulzberg
END:VEVENT
END:VCALENDAR
