BEGIN:VCALENDAR
VERSION:2.0
PRODID:-//Sabre//Sabre VObject 4.5.8//EN
CALSCALE:GREGORIAN
BEGIN:VEVENT
UID:sabre-vobject-03121076-c9f4-404d-ba1a-290d618fa468
DTSTAMP:20260425T153246Z
SUMMARY:Messfeier
DESCRIPTION:https://www2.bistum-augsburg.de/gottesdienste/messfeier_id17257
 34
DTSTART;TZID=Europe/Berlin:20260430T190000
DURATION:PT30M
LOCATION:St. Martin\, Grimoldsriederstr. 6\, 86872 Scherstetten - Konradsho
 fen
END:VEVENT
END:VCALENDAR
