BEGIN:VCALENDAR
VERSION:2.0
PRODID:-//Sabre//Sabre VObject 4.5.8//EN
CALSCALE:GREGORIAN
BEGIN:VEVENT
UID:sabre-vobject-5bb16932-c5cc-4fc1-9bf3-ba9a011f2f68
DTSTAMP:20260425T114558Z
SUMMARY:Rosenkranz
DESCRIPTION:https://www2.bistum-augsburg.de/gottesdienste/rosenkranz_id1725
 739
DTSTART;TZID=Europe/Berlin:20260429T080000
DURATION:PT30M
LOCATION:Maria Königin
END:VEVENT
END:VCALENDAR
