BEGIN:VCALENDAR
VERSION:2.0
PRODID:-//Sabre//Sabre VObject 4.5.8//EN
CALSCALE:GREGORIAN
BEGIN:VEVENT
UID:sabre-vobject-1e174e57-22c1-46b6-90d8-73fedc6aacf4
DTSTAMP:20260421T091226Z
SUMMARY:Rosenkranzbinden mit den Erstkommunionkindern (Pfarrsaal Biberbach)
DESCRIPTION:https://www2.bistum-augsburg.de/gottesdienste/rosenkranzbinden-
 mit-den-erstkommunionkindern-pfarrsaal-biberbach_id1725746
DTSTART;TZID=Europe/Berlin:20260502T100000
DURATION:PT30M
LOCATION:St. Jakobus maj.
END:VEVENT
END:VCALENDAR
