BEGIN:VCALENDAR
VERSION:2.0
PRODID:-//Sabre//Sabre VObject 4.5.8//EN
CALSCALE:GREGORIAN
BEGIN:VEVENT
UID:sabre-vobject-09ffbb43-a4d8-4dbc-8f71-339a4eedd8fb
DTSTAMP:20260422T143533Z
SUMMARY:Wallfahrergottesdienst der PG Oberhausen-Bärenkeller
DESCRIPTION:https://www2.bistum-augsburg.de/gottesdienste/wallfahrergottesd
 ienst-der-pg-oberhausen-baerenkeller_id1725747
DTSTART;TZID=Europe/Berlin:20260502T120000
DURATION:PT30M
LOCATION:St. Jakobus maj.
END:VEVENT
END:VCALENDAR
