BEGIN:VCALENDAR
VERSION:2.0
PRODID:-//Sabre//Sabre VObject 4.5.8//EN
CALSCALE:GREGORIAN
BEGIN:VEVENT
UID:sabre-vobject-305f94aa-aad8-4837-9999-0fd221ebd856
DTSTAMP:20260426T000253Z
SUMMARY:Heilige Messe
DESCRIPTION:https://www2.bistum-augsburg.de/gottesdienste/heilige-messe_id1
 725754
DTSTART;TZID=Europe/Berlin:20260426T110000
DURATION:PT30M
LOCATION:St. Thomas Morus
END:VEVENT
END:VCALENDAR
