BEGIN:VCALENDAR
VERSION:2.0
PRODID:-//Sabre//Sabre VObject 4.5.8//EN
CALSCALE:GREGORIAN
BEGIN:VEVENT
UID:sabre-vobject-9a1b82b8-721c-48c9-87ea-d670da6767ae
DTSTAMP:20260423T035548Z
SUMMARY:Vorabendmesse mit Marienlob
DESCRIPTION:https://www2.bistum-augsburg.de/gottesdienste/vorabendmesse-mit
 -marienlob_id1725758
DTSTART;TZID=Europe/Berlin:20260502T190000
DURATION:PT30M
LOCATION:St. Jakobus maj.
END:VEVENT
END:VCALENDAR
