BEGIN:VCALENDAR
VERSION:2.0
PRODID:-//Sabre//Sabre VObject 4.5.8//EN
CALSCALE:GREGORIAN
BEGIN:VEVENT
UID:sabre-vobject-828cd91c-a002-4e8b-a5de-0d7d77f9deec
DTSTAMP:20260424T124600Z
SUMMARY:Kirchenführung in der Wallfahrtskirche Biberbach (öffentlich)
DESCRIPTION:https://www2.bistum-augsburg.de/gottesdienste/kirchenfuehrung-i
 n-der-wallfahrtskirche-biberbach-oeffentlich_id1725771
DTSTART;TZID=Europe/Berlin:20260503T150000
DURATION:PT30M
LOCATION:St. Jakobus maj.
END:VEVENT
END:VCALENDAR
