BEGIN:VCALENDAR
VERSION:2.0
PRODID:-//Sabre//Sabre VObject 4.5.8//EN
CALSCALE:GREGORIAN
BEGIN:VEVENT
UID:sabre-vobject-536b49a3-741c-4154-b0c3-be326203333f
DTSTAMP:20260425T141257Z
SUMMARY:Morgengebet
DESCRIPTION:https://www2.bistum-augsburg.de/gottesdienste/morgengebet_id172
 5775
DTSTART;TZID=Europe/Berlin:20260429T080000
DURATION:PT30M
LOCATION:St. Stephanus
END:VEVENT
END:VCALENDAR
