BEGIN:VCALENDAR
VERSION:2.0
PRODID:-//Sabre//Sabre VObject 4.5.8//EN
CALSCALE:GREGORIAN
BEGIN:VEVENT
UID:sabre-vobject-24f8e75f-9c8b-4a3d-be8b-75fa8340616e
DTSTAMP:20260423T222829Z
SUMMARY:Eucharistiefeier - Dankgottesdienst - Verabschiedung von Bürgermei
 ster Bernhard Dolp und den scheidenen Marktratmitgliedern - Begrüßung de
 s neuen Bürgermeister Andreas Wirtz und den neuen Mi
DESCRIPTION:https://www2.bistum-augsburg.de/gottesdienste/eucharistiefeier-
 dankgottesdienst-verabschiedung-von-buergermeister-bernhard-dolp-und-den-s
 cheidenen-marktratmitgliedern-begruessung-des-neuen-buergermeister-andreas
 -wirtz-und-den-neuen-mi_id1725777
DTSTART;TZID=Europe/Berlin:20260501T170000
DURATION:PT30M
LOCATION:St. Nikolaus\, Kirchenweg 4\, 87647 Unterthingau
END:VEVENT
END:VCALENDAR
