BEGIN:VCALENDAR
VERSION:2.0
PRODID:-//Sabre//Sabre VObject 4.5.8//EN
CALSCALE:GREGORIAN
BEGIN:VEVENT
UID:sabre-vobject-fb734fd9-4454-4a4b-9d85-0c38ee61a5d5
DTSTAMP:20260426T013116Z
SUMMARY:Heilige Messe und Maibaumsegnung in Schlipsheim
DESCRIPTION:https://www2.bistum-augsburg.de/gottesdienste/heilige-messe-und
 -maibaumsegnung-in-schlipsheim_id1725792
DTSTART;TZID=Europe/Berlin:20260501T093000
DURATION:PT30M
LOCATION:St. Stephanus
END:VEVENT
END:VCALENDAR
