BEGIN:VCALENDAR
VERSION:2.0
PRODID:-//Sabre//Sabre VObject 4.5.8//EN
CALSCALE:GREGORIAN
BEGIN:VEVENT
UID:sabre-vobject-d60e2f19-e014-48e1-980c-85c71acb5f30
DTSTAMP:20260423T120643Z
SUMMARY:Vorabendmesse -  Festsaal von KRAFTWERK - Dankgottesdienst - Verabs
 chiedung von Bürgermeister Michael Abel und den scheidenen Gemeinderäten
  - Begrüßung der neuen Bürgermeisterin Iris Plonski
DESCRIPTION:https://www2.bistum-augsburg.de/gottesdienste/vorabendmesse-fes
 tsaal-von-kraftwerk-dankgottesdienst-verabschiedung-von-buergermeister-mic
 hael-abel-und-den-scheidenen-gemeinderaeten-begruessung-der-neuen-buergerm
 eisterin-iris-plonski_id1725798
DTSTART;TZID=Europe/Berlin:20260502T180000
DURATION:PT30M
LOCATION:St. Martin
END:VEVENT
END:VCALENDAR
