BEGIN:VCALENDAR
VERSION:2.0
PRODID:-//Sabre//Sabre VObject 4.5.8//EN
CALSCALE:GREGORIAN
BEGIN:VEVENT
UID:sabre-vobject-c3b2f314-c85c-4e31-8405-a655203eed24
DTSTAMP:20260422T194242Z
SUMMARY:Hochamt
DESCRIPTION:https://www2.bistum-augsburg.de/gottesdienste/hochamt_id1725834
DTSTART;TZID=Europe/Berlin:20260501T110000
DURATION:PT30M
LOCATION:St. Maximilian\, Franziskanergasse 4\, 86152 Augsburg
END:VEVENT
END:VCALENDAR
