BEGIN:VCALENDAR
VERSION:2.0
PRODID:-//Sabre//Sabre VObject 4.5.8//EN
CALSCALE:GREGORIAN
BEGIN:VEVENT
UID:sabre-vobject-a5ec6a5e-c7f0-4e74-8598-7590ce1bdff9
DTSTAMP:20260423T092501Z
SUMMARY:Seelsorgesprechstunde bei Pfr. Lindl (ohne Anmeldung)
DESCRIPTION:https://www2.bistum-augsburg.de/gottesdienste/seelsorgesprechst
 unde-bei-pfr-lindl-ohne-anmeldung_id1725844
DTSTART;TZID=Europe/Berlin:20260430T170000
DURATION:PT30M
LOCATION:St. Jakobus maj.
END:VEVENT
END:VCALENDAR
