BEGIN:VCALENDAR
VERSION:2.0
PRODID:-//Sabre//Sabre VObject 4.5.8//EN
CALSCALE:GREGORIAN
BEGIN:VEVENT
UID:sabre-vobject-56a13d12-664c-4627-bbe0-8a73f5ee340c
DTSTAMP:20260425T102156Z
SUMMARY:Gesprächs-Cafe im Atlantum entfällt
DESCRIPTION:https://www2.bistum-augsburg.de/gottesdienste/gespraechs-cafe-i
 m-atlantum-entfaellt_id1725878
DTSTART;TZID=Europe/Berlin:20260511T143000
DURATION:PT30M
LOCATION:St. Elisabeth
END:VEVENT
END:VCALENDAR
