BEGIN:VCALENDAR
VERSION:2.0
PRODID:-//Sabre//Sabre VObject 4.5.8//EN
CALSCALE:GREGORIAN
BEGIN:VEVENT
UID:sabre-vobject-496270c8-907a-4d2f-9cd6-d09652d01c7b
DTSTAMP:20260424T030243Z
SUMMARY:Heilige Messe - 17:30 Uhr Rosenkranz
DESCRIPTION:https://www2.bistum-augsburg.de/gottesdienste/heilige-messe-17-
 30-uhr-rosenkranz_id1725881
DTSTART;TZID=Europe/Berlin:20260428T180000
DURATION:PT30M
LOCATION:St. Nikolaus v. Flüe
END:VEVENT
END:VCALENDAR
