BEGIN:VCALENDAR
VERSION:2.0
PRODID:-//Sabre//Sabre VObject 4.5.8//EN
CALSCALE:GREGORIAN
BEGIN:VEVENT
UID:sabre-vobject-ad152ecc-6a6d-4de1-a37d-f9921fa0609d
DTSTAMP:20260423T162705Z
SUMMARY:Rosenkranz
DESCRIPTION:https://www2.bistum-augsburg.de/gottesdienste/rosenkranz_id1725
 928
DTSTART;TZID=Europe/Berlin:20260430T090000
DURATION:PT30M
LOCATION:Kath. Von Langenmantel'sche Kobelkapellenstiftung Stiftung des öf
 fentlichen Rechts\, \, 86356 Neusäß Westheim
END:VEVENT
END:VCALENDAR
