BEGIN:VCALENDAR
VERSION:2.0
PRODID:-//Sabre//Sabre VObject 4.5.8//EN
CALSCALE:GREGORIAN
BEGIN:VEVENT
UID:sabre-vobject-674d8231-397e-4e0c-83f2-c585336fc233
DTSTAMP:20260424T133930Z
SUMMARY:Beichte der Kommunionkinder im Pfarrheim Durach
DESCRIPTION:https://www2.bistum-augsburg.de/gottesdienste/beichte-der-kommu
 nionkinder-im-pfarrheim-durach_id1725933
DTSTART;TZID=Europe/Berlin:20260428T150000
DURATION:PT30M
LOCATION:Heilig Geist
END:VEVENT
END:VCALENDAR
