BEGIN:VCALENDAR
VERSION:2.0
PRODID:-//Sabre//Sabre VObject 4.5.8//EN
CALSCALE:GREGORIAN
BEGIN:VEVENT
UID:sabre-vobject-f1b3207a-98bf-41d6-b115-40e63ac00efa
DTSTAMP:20260424T171036Z
SUMMARY:VAM\; Heilige Messe\; Kollekte für die Pfarrei
DESCRIPTION:https://www2.bistum-augsburg.de/gottesdienste/vam-heilige-messe
 -kollekte-fuer-die-pfarrei_id1725946
DTSTART;TZID=Europe/Berlin:20260425T183000
DURATION:PT30M
LOCATION:St. Laurentius\, Lorenzstraße 21\, 86551 Griesbeckerzell
END:VEVENT
END:VCALENDAR
