BEGIN:VCALENDAR
VERSION:2.0
PRODID:-//Sabre//Sabre VObject 4.5.8//EN
CALSCALE:GREGORIAN
BEGIN:VEVENT
UID:sabre-vobject-e588cac1-7a00-49e6-88e1-cb2455827932
DTSTAMP:20260424T220655Z
SUMMARY:Heilige Messe
DESCRIPTION:https://www2.bistum-augsburg.de/gottesdienste/heilige-messe_id1
 725948
DTSTART;TZID=Europe/Berlin:20260427T183000
DURATION:PT30M
LOCATION:St. Laurentius\, Lorenzstraße 21\, 86551 Griesbeckerzell
END:VEVENT
END:VCALENDAR
