BEGIN:VCALENDAR
VERSION:2.0
PRODID:-//Sabre//Sabre VObject 4.5.8//EN
CALSCALE:GREGORIAN
BEGIN:VEVENT
UID:sabre-vobject-d37a9bf7-fac7-4d6c-9b1d-bd35988374ae
DTSTAMP:20260424T163850Z
SUMMARY:Trauung Löcherer / Löcherer\, geb. Schmid
DESCRIPTION:https://www2.bistum-augsburg.de/gottesdienste/trauung-loecherer
 -loecherer-geb-schmid_id1725973
DTSTART;TZID=Europe/Berlin:20260509T140000
DURATION:PT30M
LOCATION:Mater Dolorosa\, Klimmach 61\, 86830 Klimmach
END:VEVENT
END:VCALENDAR
