BEGIN:VCALENDAR
VERSION:2.0
PRODID:-//Sabre//Sabre VObject 4.5.8//EN
CALSCALE:GREGORIAN
BEGIN:VEVENT
UID:sabre-vobject-37f79584-e6a8-49bb-952d-a1391288e178
DTSTAMP:20260424T223057Z
SUMMARY:Vorabendmesse und Rosenkranz - entfällt
DESCRIPTION:https://www2.bistum-augsburg.de/gottesdienste/vorabendmesse-und
 -rosenkranz-entfaellt_id1725974
DTSTART;TZID=Europe/Berlin:20260509T190000
DURATION:PT30M
LOCATION:Mater Dolorosa\, Klimmach 61\, 86830 Klimmach
END:VEVENT
END:VCALENDAR
