BEGIN:VCALENDAR
VERSION:2.0
PRODID:-//Sabre//Sabre VObject 4.5.8//EN
CALSCALE:GREGORIAN
BEGIN:VEVENT
UID:sabre-vobject-af42b70f-2349-43cd-84b3-37950b96f43d
DTSTAMP:20260424T223047Z
SUMMARY:Antoniuskapelle Birkach: Rosenkranz
DESCRIPTION:https://www2.bistum-augsburg.de/gottesdienste/antoniuskapelle-b
 irkach-rosenkranz_id1725975
DTSTART;TZID=Europe/Berlin:20260511T160000
DURATION:PT30M
LOCATION:Mater Dolorosa\, Klimmach 61\, 86830 Klimmach
END:VEVENT
END:VCALENDAR
