BEGIN:VCALENDAR
VERSION:2.0
PRODID:-//Sabre//Sabre VObject 4.5.8//EN
CALSCALE:GREGORIAN
BEGIN:VEVENT
UID:sabre-vobject-c0e3769f-4345-48e8-93d6-a9575538b21e
DTSTAMP:20260423T092514Z
SUMMARY:1. feierliche Maiandacht (musik. gest. vom Landfrauenchor)
DESCRIPTION:https://www2.bistum-augsburg.de/gottesdienste/1-feierliche-maia
 ndacht-musik-gest-vom-landfrauenchor_id1726006
DTSTART;TZID=Europe/Berlin:20260501T190000
DURATION:PT30M
LOCATION:Mariä Himmelfahrt
END:VEVENT
END:VCALENDAR
