BEGIN:VCALENDAR
VERSION:2.0
PRODID:-//Sabre//Sabre VObject 4.5.8//EN
CALSCALE:GREGORIAN
BEGIN:VEVENT
UID:sabre-vobject-c443226b-5692-42f0-b912-86c4fe4f2a79
DTSTAMP:20260424T122143Z
SUMMARY:Heilige Messe für die PG\; für alle Lebenden und Verstorbenen der
  Pfarreiengemeinschaft\; Kollekte für die Pfarrei
DESCRIPTION:https://www2.bistum-augsburg.de/gottesdienste/heilige-messe-fue
 r-die-pg-fuer-alle-lebenden-und-verstorbenen-der-pfarreiengemeinschaft-kol
 lekte-fuer-die-pfarrei_id1726008
DTSTART;TZID=Europe/Berlin:20260426T103000
DURATION:PT30M
LOCATION:St. Vitus\, Nähe Dorfstraße\, 86551 Edenried
END:VEVENT
END:VCALENDAR
