BEGIN:VCALENDAR
VERSION:2.0
PRODID:-//Sabre//Sabre VObject 4.5.8//EN
CALSCALE:GREGORIAN
BEGIN:VEVENT
UID:sabre-vobject-9054975e-1e60-4601-b2c7-e96ee4f645cb
DTSTAMP:20260424T223112Z
SUMMARY:Antoniuskapelle Birkach: Heilige Messe (18:30 Rosenkranz)
DESCRIPTION:https://www2.bistum-augsburg.de/gottesdienste/antoniuskapelle-b
 irkach-heilige-messe-18-30-rosenkranz_id1726014
DTSTART;TZID=Europe/Berlin:20260515T190000
DURATION:PT30M
LOCATION:Mater Dolorosa\, Klimmach 61\, 86830 Klimmach
END:VEVENT
END:VCALENDAR
