BEGIN:VCALENDAR
VERSION:2.0
PRODID:-//Sabre//Sabre VObject 4.5.8//EN
CALSCALE:GREGORIAN
BEGIN:VEVENT
UID:sabre-vobject-37236c32-3015-4640-9924-a8d87a323072
DTSTAMP:20260425T112111Z
SUMMARY:Heilige Messe mit Rosenverkauf
DESCRIPTION:https://www2.bistum-augsburg.de/gottesdienste/heilige-messe-mit
 -rosenverkauf_id1726015
DTSTART;TZID=Europe/Berlin:20260510T103000
DURATION:PT30M
LOCATION:St. Magnus
END:VEVENT
END:VCALENDAR
