BEGIN:VCALENDAR
VERSION:2.0
PRODID:-//Sabre//Sabre VObject 4.5.8//EN
CALSCALE:GREGORIAN
BEGIN:VEVENT
UID:sabre-vobject-6b037c68-1f17-4ace-9ae3-1b7fe3fdbe05
DTSTAMP:20260424T043132Z
SUMMARY:Frauenkirche: Heilige Messe mit Marienlob
DESCRIPTION:https://www2.bistum-augsburg.de/gottesdienste/frauenkirche-heil
 ige-messe-mit-marienlob_id1726040
DTSTART;TZID=Europe/Berlin:20260515T090000
DURATION:PT30M
LOCATION:St. Michael
END:VEVENT
END:VCALENDAR
