BEGIN:VCALENDAR
VERSION:2.0
PRODID:-//Sabre//Sabre VObject 4.5.8//EN
CALSCALE:GREGORIAN
BEGIN:VEVENT
UID:sabre-vobject-72a31d94-f60a-4702-aa12-f21541455ec1
DTSTAMP:20260424T060942Z
SUMMARY:Klinikgottesdienst
DESCRIPTION:https://www2.bistum-augsburg.de/gottesdienste/klinikgottesdiens
 t_id1726058
DTSTART;TZID=Europe/Berlin:20260510T090000
DURATION:PT30M
LOCATION:St. Georg und Michael
END:VEVENT
END:VCALENDAR
