BEGIN:VCALENDAR
VERSION:2.0
PRODID:-//Sabre//Sabre VObject 4.5.8//EN
CALSCALE:GREGORIAN
BEGIN:VEVENT
UID:sabre-vobject-4b0dc1f6-c02f-4601-aebe-d4f3e086e93a
DTSTAMP:20260422T225251Z
SUMMARY:Einweihung und Segnung des neu erbauten Feuerwehrgerätehauses Unte
 relchingen mit Fahrzeugübergabe und Segnung des neuen LF 20
DESCRIPTION:https://www2.bistum-augsburg.de/gottesdienste/einweihung-und-se
 gnung-des-neu-erbauten-feuerwehrgeraetehauses-unterelchingen-mit-fahrzeugu
 ebergabe-und-segnung-des-neuen-lf-20_id1726087
DTSTART;TZID=Europe/Berlin:20260424T180000
DURATION:PT30M
LOCATION:St. Michael
END:VEVENT
END:VCALENDAR
