BEGIN:VCALENDAR
VERSION:2.0
PRODID:-//Sabre//Sabre VObject 4.5.8//EN
CALSCALE:GREGORIAN
BEGIN:VEVENT
UID:sabre-vobject-1acccd21-bace-498b-9f1b-6fa10525097f
DTSTAMP:20260424T153002Z
SUMMARY:Heilige Messe für die PG\; für alle Lebenden und Verstorbenen der
  Pfarreiengemeinschaft\; Kollekte für die Pfarrei\; Maibaumsegnung
DESCRIPTION:https://www2.bistum-augsburg.de/gottesdienste/heilige-messe-fue
 r-die-pg-fuer-alle-lebenden-und-verstorbenen-der-pfarreiengemeinschaft-kol
 lekte-fuer-die-pfarrei-maibaumsegnung_id1726116
DTSTART;TZID=Europe/Berlin:20260501T103000
DURATION:PT30M
LOCATION:St. Verena\, Tränkstraße 4\, 86551 Sulzbach
END:VEVENT
END:VCALENDAR
