BEGIN:VCALENDAR
VERSION:2.0
PRODID:-//Sabre//Sabre VObject 4.5.8//EN
CALSCALE:GREGORIAN
BEGIN:VEVENT
UID:sabre-vobject-cb519641-6f6a-417d-be72-0ac6903c0fb0
DTSTAMP:20260425T234210Z
SUMMARY:Hl. Messe
DESCRIPTION:https://www2.bistum-augsburg.de/gottesdienste/hl-messe_id172611
 7
DTSTART;TZID=Europe/Berlin:20260501T180000
DURATION:PT30M
LOCATION:St. Ulrich und Afra
END:VEVENT
END:VCALENDAR
