BEGIN:VCALENDAR
VERSION:2.0
PRODID:-//Sabre//Sabre VObject 4.5.8//EN
CALSCALE:GREGORIAN
BEGIN:VEVENT
UID:sabre-vobject-0df773eb-a872-47f0-aa2e-af82d35c86b8
DTSTAMP:20260425T000054Z
SUMMARY:Tauftag Tauffeier für Romy Klier
DESCRIPTION:https://www2.bistum-augsburg.de/gottesdienste/tauftag-tauffeier
 -fuer-romy-klier_id1726122
DTSTART;TZID=Europe/Berlin:20260509T140000
DURATION:PT30M
LOCATION:St. Peter und Paul
END:VEVENT
END:VCALENDAR
