BEGIN:VCALENDAR
VERSION:2.0
PRODID:-//Sabre//Sabre VObject 4.5.8//EN
CALSCALE:GREGORIAN
BEGIN:VEVENT
UID:sabre-vobject-486f1cea-b76f-43f4-893f-807af018ccc1
DTSTAMP:20260425T190255Z
SUMMARY:Rosenverkauf
DESCRIPTION:https://www2.bistum-augsburg.de/gottesdienste/rosenverkauf_id17
 26137
DTSTART;TZID=Europe/Berlin:20260510T000000
DURATION:PT30M
LOCATION:Hlgst. Herz Jesu
END:VEVENT
END:VCALENDAR
