BEGIN:VCALENDAR
VERSION:2.0
PRODID:-//Sabre//Sabre VObject 4.5.8//EN
CALSCALE:GREGORIAN
BEGIN:VEVENT
UID:sabre-vobject-a14f7bb9-2409-4907-9c8d-35ba5539c1d2
DTSTAMP:20260423T060651Z
SUMMARY:Gemeindegottesdienst
DESCRIPTION:https://www2.bistum-augsburg.de/gottesdienste/gemeindegottesdie
 nst_id1726142
DTSTART;TZID=Europe/Berlin:20260426T091500
DURATION:PT30M
LOCATION:St. Peter und Paul
END:VEVENT
END:VCALENDAR
