BEGIN:VCALENDAR
VERSION:2.0
PRODID:-//Sabre//Sabre VObject 4.5.8//EN
CALSCALE:GREGORIAN
BEGIN:VEVENT
UID:sabre-vobject-442d11a8-8e61-4e63-80f1-e539352df21a
DTSTAMP:20260426T033949Z
SUMMARY:Festgottesdienst
DESCRIPTION:https://www2.bistum-augsburg.de/gottesdienste/festgottesdienst_
 id1726143
DTSTART;TZID=Europe/Berlin:20260501T084500
DURATION:PT30M
LOCATION:St. Peter
END:VEVENT
END:VCALENDAR
