BEGIN:VCALENDAR
VERSION:2.0
PRODID:-//Sabre//Sabre VObject 4.5.8//EN
CALSCALE:GREGORIAN
BEGIN:VEVENT
UID:sabre-vobject-99ed1593-931a-4c1f-9e1b-f750fef10d5b
DTSTAMP:20260424T150929Z
SUMMARY:Festgottesdienst
DESCRIPTION:https://www2.bistum-augsburg.de/gottesdienste/festgottesdienst_
 id1726162
DTSTART;TZID=Europe/Berlin:20260514T083000
DURATION:PT30M
LOCATION:St. Vitus und Katharina
END:VEVENT
END:VCALENDAR
