BEGIN:VCALENDAR
VERSION:2.0
PRODID:-//Sabre//Sabre VObject 4.5.8//EN
CALSCALE:GREGORIAN
BEGIN:VEVENT
UID:sabre-vobject-b69281c8-73be-49f0-8fd7-3598828d805a
DTSTAMP:20260425T035139Z
SUMMARY:Festgottesdienst 50jähriges Jubiläum des Kath. Frauenbunds Stotza
 rd
DESCRIPTION:https://www2.bistum-augsburg.de/gottesdienste/festgottesdienst-
 50jaehriges-jubilaeum-des-kath-frauenbunds-stotzard_id1726163
DTSTART;TZID=Europe/Berlin:20260509T140000
DURATION:PT30M
LOCATION:St. Peter\, Pfarrer-Wittmann-Platz 2\, 86447 Stotzard
END:VEVENT
END:VCALENDAR
