BEGIN:VCALENDAR
VERSION:2.0
PRODID:-//Sabre//Sabre VObject 4.5.8//EN
CALSCALE:GREGORIAN
BEGIN:VEVENT
UID:sabre-vobject-25bc3d2c-c781-4859-9b8e-9d0e426823e4
DTSTAMP:20260425T020954Z
SUMMARY:Rosenkranz
DESCRIPTION:https://www2.bistum-augsburg.de/gottesdienste/rosenkranz_id1726
 164
DTSTART;TZID=Europe/Berlin:20260510T080000
DURATION:PT30M
LOCATION:St. Peter\, Pfarrer-Wittmann-Platz 2\, 86447 Stotzard
END:VEVENT
END:VCALENDAR
