BEGIN:VCALENDAR
VERSION:2.0
PRODID:-//Sabre//Sabre VObject 4.5.8//EN
CALSCALE:GREGORIAN
BEGIN:VEVENT
UID:sabre-vobject-a74c5497-0f32-4496-bf74-29d040b0a912
DTSTAMP:20260423T003001Z
SUMMARY:Heilige Messe im Haus Tobit
DESCRIPTION:https://www2.bistum-augsburg.de/gottesdienste/heilige-messe-im-
 haus-tobit_id1726166
DTSTART;TZID=Europe/Berlin:20260423T163000
DURATION:PT30M
LOCATION:St. Laurentius
END:VEVENT
END:VCALENDAR
